BEGIN:VCALENDAR
VERSION:2.0
PRODID:spatie/icalendar-generator
DESCRIPTION:Events from GOWANDA FREE LIBRARY
X-WR-CALDESC:Events from GOWANDA FREE LIBRARY
REFRESH-INTERVAL;VALUE=DURATION:PT1440M
X-PUBLISHED-TTL:PT1440M
BEGIN:VTIMEZONE
TZID:Etc/GMT+0
BEGIN:STANDARD
DTSTART:20241125T143000Z
TZOFFSETFROM:+0000
TZOFFSETTO:+0000
END:STANDARD
END:VTIMEZONE
BEGIN:VTIMEZONE
TZID:UTC
BEGIN:STANDARD
DTSTART:20250729T162725Z
TZOFFSETFROM:+0000
TZOFFSETTO:+0000
END:STANDARD
END:VTIMEZONE
BEGIN:VEVENT
UID:3-3
DTSTAMP:20260425T162725Z
SUMMARY:Adult Book Club
LOCATION:
ORGANIZER;CN=Heidi Khawam:MAILTO:director@gowandalibrary.org
DTSTART;TZID=Etc/GMT+0:20250822T143000
DTEND;TZID=Etc/GMT+0:20250822T153000
X-ALT-DESC;FMTTYPE=TEXT/HTML:<p>Join us on August 22nd at 2:30pm for Book C
 lub.</p>\n<p>The book for this month is Fun for the Whole Family by Jennif
 er E. Smith. A breathtaking\, joy-filled novel about the people we love\, 
 the secrets we keep\, and the enduring power of family.</p>\n<p>You are al
 ways welcome to join us and share about the book you have read.</p>\n<p>We
  will provide drinks and snacks!</p>\n
CATEGORIES:General
URL;VALUE=URI:https://gowandalibrary.org/mc-events/adult-book-club/
METHOD:PUBLISH
END:VEVENT
END:VCALENDAR